BEGIN:VCALENDAR
VERSION:2.0
PRODID:-//Greasley Parish Council//Meeting Calendar//EN
CALSCALE:GREGORIAN
METHOD:PUBLISH
BEGIN:VEVENT
UID:75157-20260428@greasleyparishcouncil.gov.uk
DTSTAMP:20260423T135326Z
DTSTART;VALUE=DATE:20260428
DTEND;VALUE=DATE:20260429
SUMMARY:Finance and Policy Committee &#8211\\; Tuesday 28th April 2026
DESCRIPTION:Finance &amp; Policy Committee Meeting\nView details: https://greasleyparishcouncil.gov.uk/meetings/finance-and-policy-committee-tuesday-28th-april-2026/
URL:https://greasleyparishcouncil.gov.uk/meetings/finance-and-policy-committee-tuesday-28th-april-2026/
END:VEVENT
END:VCALENDAR
