BEGIN:VCALENDAR
VERSION:2.0
PRODID:-//Greasley Parish Council//Meeting Calendar//EN
CALSCALE:GREGORIAN
METHOD:PUBLISH
BEGIN:VEVENT
UID:75147-20260420@greasleyparishcouncil.gov.uk
DTSTAMP:20260423T085223Z
DTSTART;VALUE=DATE:20260420
DTEND;VALUE=DATE:20260421
SUMMARY:Extra Ordinary Full Council Meeting &#8211\\; 20th April 2026
DESCRIPTION:Full Council Meeting\nView details: https://greasleyparishcouncil.gov.uk/meetings/extra-ordinary-full-council-meeting-20th-april-2026/
URL:https://greasleyparishcouncil.gov.uk/meetings/extra-ordinary-full-council-meeting-20th-april-2026/
END:VEVENT
END:VCALENDAR
