BEGIN:VCALENDAR
VERSION:2.0
PRODID:-//Greasley Parish Council//Meeting Calendar//EN
CALSCALE:GREGORIAN
METHOD:PUBLISH
BEGIN:VEVENT
UID:75145-20260420@greasleyparishcouncil.gov.uk
DTSTAMP:20260423T084642Z
DTSTART;VALUE=DATE:20260420
DTEND;VALUE=DATE:20260421
SUMMARY:Greasley Sports and Community Centre Committee Meeting &#8211\\; Monday 20th April 2026
DESCRIPTION:Sports and Community Centre Committee Meeting\nView details: https://greasleyparishcouncil.gov.uk/meetings/gscc-committee-meeting-monday-20th-april-2026/
URL:https://greasleyparishcouncil.gov.uk/meetings/gscc-committee-meeting-monday-20th-april-2026/
END:VEVENT
END:VCALENDAR
