BEGIN:VCALENDAR
VERSION:2.0
PRODID:-//Greasley Parish Council//Meeting Calendar//EN
CALSCALE:GREGORIAN
METHOD:PUBLISH
BEGIN:VEVENT
UID:71330-20250603@greasleyparishcouncil.gov.uk
DTSTAMP:20260421T123328Z
DTSTART;VALUE=DATE:20250603
DTEND;VALUE=DATE:20250604
SUMMARY:Finance and Policy Committee &#8211\\; 3rd June 2025
DESCRIPTION:Finance &amp; Policy Committee Meeting\nView details: https://greasleyparishcouncil.gov.uk/meetings/finance-and-policy-committee-3rd-june-2025/
URL:https://greasleyparishcouncil.gov.uk/meetings/finance-and-policy-committee-3rd-june-2025/
END:VEVENT
END:VCALENDAR
