BEGIN:VCALENDAR
VERSION:2.0
PRODID:-//Greasley Parish Council//Meeting Calendar//EN
CALSCALE:GREGORIAN
METHOD:PUBLISH
BEGIN:VEVENT
UID:71218-20250127@greasleyparishcouncil.gov.uk
DTSTAMP:20260423T085032Z
DTSTART;VALUE=DATE:20250127
DTEND;VALUE=DATE:20250128
SUMMARY:Extraordinary Full Council Meeting &#8211\\; 27th January 2025
DESCRIPTION:Full Council Meeting\nView details: https://greasleyparishcouncil.gov.uk/meetings/extraordinary-full-council-meeting-27th-january-2025/
URL:https://greasleyparishcouncil.gov.uk/meetings/extraordinary-full-council-meeting-27th-january-2025/
END:VEVENT
END:VCALENDAR
