BEGIN:VCALENDAR
VERSION:2.0
PRODID:-//Greasley Parish Council//Meeting Calendar//EN
CALSCALE:GREGORIAN
METHOD:PUBLISH
BEGIN:VEVENT
UID:71212-20250121@greasleyparishcouncil.gov.uk
DTSTAMP:20260420T082232Z
DTSTART;VALUE=DATE:20250121
DTEND;VALUE=DATE:20250122
SUMMARY:Sports and Community Centre Committee Meeting &#8211\\; 21st January 2025
DESCRIPTION:Sports and Community Centre Committee Meeting\nView details: https://greasleyparishcouncil.gov.uk/meetings/sports-and-community-centre-committee-meeting-3/
URL:https://greasleyparishcouncil.gov.uk/meetings/sports-and-community-centre-committee-meeting-3/
END:VEVENT
END:VCALENDAR
