BEGIN:VCALENDAR
VERSION:2.0
PRODID:-//Greasley Parish Council//Meeting Calendar//EN
CALSCALE:GREGORIAN
METHOD:PUBLISH
BEGIN:VEVENT
UID:71170-20241108@greasleyparishcouncil.gov.uk
DTSTAMP:20260423T133026Z
DTSTART;VALUE=DATE:20241108
DTEND;VALUE=DATE:20241109
SUMMARY:Community Resilience Committee &#8211\\; 8th November 2024
DESCRIPTION:Community Resilience Committee Meeting\nView details: https://greasleyparishcouncil.gov.uk/meetings/community-resilience-committee-8th-november-2024/
URL:https://greasleyparishcouncil.gov.uk/meetings/community-resilience-committee-8th-november-2024/
END:VEVENT
END:VCALENDAR
