BEGIN:VCALENDAR
VERSION:2.0
PRODID:-//Greasley Parish Council//Meeting Calendar//EN
CALSCALE:GREGORIAN
METHOD:PUBLISH
BEGIN:VEVENT
UID:70732-20210729@greasleyparishcouncil.gov.uk
DTSTAMP:20260421T082308Z
DTSTART;VALUE=DATE:20210729
DTEND;VALUE=DATE:20210730
SUMMARY:Extraordinary Full Council Meeting &#8211\\; 29th July 2021
DESCRIPTION:Full Council Meeting\nView details: https://greasleyparishcouncil.gov.uk/meetings/extraordinary-full-council-meeting-29th-july-2021/
URL:https://greasleyparishcouncil.gov.uk/meetings/extraordinary-full-council-meeting-29th-july-2021/
END:VEVENT
END:VCALENDAR
