BEGIN:VCALENDAR
VERSION:2.0
PRODID:-//Greasley Parish Council//Meeting Calendar//EN
CALSCALE:GREGORIAN
METHOD:PUBLISH
BEGIN:VEVENT
UID:70728-20211020@greasleyparishcouncil.gov.uk
DTSTAMP:20260423T084601Z
DTSTART;VALUE=DATE:20211020
DTEND;VALUE=DATE:20211021
SUMMARY:Extraordinary Finance and General Purposes Committee Meeting &#8211\\; 20th October 2021
DESCRIPTION:Finance &amp; Policy Committee Meeting\nView details: https://greasleyparishcouncil.gov.uk/meetings/extraordinary-finance-and-general-purposes-committee-meeting-20th-october-2021/
URL:https://greasleyparishcouncil.gov.uk/meetings/extraordinary-finance-and-general-purposes-committee-meeting-20th-october-2021/
END:VEVENT
END:VCALENDAR
