BEGIN:VCALENDAR
VERSION:2.0
PRODID:-//Greasley Parish Council//Meeting Calendar//EN
CALSCALE:GREGORIAN
METHOD:PUBLISH
BEGIN:VEVENT
UID:70714-20240124@greasleyparishcouncil.gov.uk
DTSTAMP:20260420T092126Z
DTSTART;VALUE=DATE:20240124
DTEND;VALUE=DATE:20240125
SUMMARY:Finance and General Purposes Meeting &#8211\\; 22nd January 2024
DESCRIPTION:Finance &amp; Policy Committee Meeting\nView details: https://greasleyparishcouncil.gov.uk/meetings/finance-and-general-purposes-meeting-22nd-january-2024/
URL:https://greasleyparishcouncil.gov.uk/meetings/finance-and-general-purposes-meeting-22nd-january-2024/
END:VEVENT
END:VCALENDAR
