BEGIN:VCALENDAR
VERSION:2.0
PRODID:-//Greasley Parish Council//Meeting Calendar//EN
CALSCALE:GREGORIAN
METHOD:PUBLISH
BEGIN:VEVENT
UID:70704-20240108@greasleyparishcouncil.gov.uk
DTSTAMP:20260420T082054Z
DTSTART;VALUE=DATE:20240108
DTEND;VALUE=DATE:20240109
SUMMARY:Full Council Meeting &#8211\\; 8th January 2024
DESCRIPTION:Full Council Meeting\nView details: https://greasleyparishcouncil.gov.uk/meetings/full-council-meeting-agenda/
URL:https://greasleyparishcouncil.gov.uk/meetings/full-council-meeting-agenda/
END:VEVENT
END:VCALENDAR
