BEGIN:VCALENDAR
VERSION:2.0
PRODID:-//Greasley Parish Council//Meeting Calendar//EN
CALSCALE:GREGORIAN
METHOD:PUBLISH
BEGIN:VEVENT
UID:70665-20231023@greasleyparishcouncil.gov.uk
DTSTAMP:20260423T103011Z
DTSTART;VALUE=DATE:20231023
DTEND;VALUE=DATE:20231024
SUMMARY:Finance and General Purposes Committee &#8211\\; 23rd October 23
DESCRIPTION:Finance &amp; Policy Committee Meeting\nView details: https://greasleyparishcouncil.gov.uk/meetings/finance-and-general-purposes-committee/
URL:https://greasleyparishcouncil.gov.uk/meetings/finance-and-general-purposes-committee/
END:VEVENT
END:VCALENDAR
